BEGIN:VCALENDAR
VERSION:2.0
PRODID:-//Дом офицеров - ECPv4.6.25//NONSGML v1.0//EN
CALSCALE:GREGORIAN
METHOD:PUBLISH
X-WR-CALNAME:Дом офицеров
X-ORIGINAL-URL:https://dozvo.ru
X-WR-CALDESC:Events for Дом офицеров
BEGIN:VEVENT
DTSTART;VALUE=DATE:20250911
DTEND;VALUE=DATE:20250912
DTSTAMP:20260424T104745
CREATED:20250911T081315Z
LAST-MODIFIED:20250911T081315Z
UID:10907-1757548800-1757635199@dozvo.ru
SUMMARY:Выставка «Дорога жизни - дорога Победы»
DESCRIPTION:
URL:https://dozvo.ru/event/%d0%b2%d1%8b%d1%81%d1%82%d0%b0%d0%b2%d0%ba%d0%b0-%d0%b4%d0%be%d1%80%d0%be%d0%b3%d0%b0-%d0%b6%d0%b8%d0%b7%d0%bd%d0%b8-%d0%b4%d0%be%d1%80%d0%be%d0%b3%d0%b0-%d0%bf%d0%be%d0%b1%d0%b5%d0%b4%d1%8b/
ATTACH;FMTTYPE=image/jpeg:https://dozvo.ru/wp-content/uploads/2025/09/instories_95AEB28E-44A8-4FFD-A2A9-8B1FB58059A9.jpeg
END:VEVENT
END:VCALENDAR