BEGIN:VCALENDAR
VERSION:2.0
PRODID:-//Дом офицеров - ECPv4.6.25//NONSGML v1.0//EN
CALSCALE:GREGORIAN
METHOD:PUBLISH
X-WR-CALNAME:Дом офицеров
X-ORIGINAL-URL:https://dozvo.ru
X-WR-CALDESC:Events for Дом офицеров
BEGIN:VEVENT
DTSTART;TZID=UTC+0:20260205T163000
DTEND;TZID=UTC+0:20260205T183000
DTSTAMP:20260422T154832
CREATED:20260204T082103Z
LAST-MODIFIED:20260204T082103Z
UID:11354-1770309000-1770316200@dozvo.ru
SUMMARY:Генерал Хрулев - интендант Победы.
DESCRIPTION:
URL:https://dozvo.ru/event/%d0%b3%d0%b5%d0%bd%d0%b5%d1%80%d0%b0%d0%bb-%d1%85%d1%80%d1%83%d0%bb%d0%b5%d0%b2-%d0%b8%d0%bd%d1%82%d0%b5%d0%bd%d0%b4%d0%b0%d0%bd%d1%82-%d0%bf%d0%be%d0%b1%d0%b5%d0%b4%d1%8b/
ATTACH;FMTTYPE=image/jpeg:https://dozvo.ru/wp-content/uploads/2026/02/IMG_4239.jpeg
END:VEVENT
END:VCALENDAR