BEGIN:VCALENDAR
VERSION:2.0
PRODID:-//Дом офицеров - ECPv4.6.25//NONSGML v1.0//EN
CALSCALE:GREGORIAN
METHOD:PUBLISH
X-WR-CALNAME:Дом офицеров
X-ORIGINAL-URL:https://dozvo.ru
X-WR-CALDESC:Events for Дом офицеров
BEGIN:VEVENT
DTSTART;TZID=UTC+0:20251130T110000
DTEND;TZID=UTC+0:20251130T130000
DTSTAMP:20260422T190802
CREATED:20251118T104917Z
LAST-MODIFIED:20251118T104917Z
UID:11089-1764500400-1764507600@dozvo.ru
SUMMARY:Географический диктант 2025
DESCRIPTION:  \nПриглашаем принять участие в международной просветительской акции «ГЕОГРАФИЧЕСКИЙ ДИКТАНТ 2025» \n📍Диктант будет проходить в ФГБУ «Дом офицеров Ленинградского военного округа» Минобороны России. Конференц-зал — 2 этаж — кабинет №201. Адрес: Литейный проспект\, дом 20. \n📨Зарегистрироваться в качестве участника возможно по электронному адресу: dolenvo@bk.ru \n🌐Официальный сайт Диктанта dictant.rgo.ru \n📆Распорядок работы площадки 30 ноября: \n11:00 – начало работы площадки;\n11:00-11:45 – сбор\, регистрация участников и выдача бланков для написания Диктанта;\n11:45-12:00 – викторина\, инструктаж по заполнению бланков для написания Диктанта;\n12:00-13:00 – написание Диктанта;\n13:10 – закрытие площадки \n🛂Проход на территорию организации по предъявлению документа\, удостоверяющего личность. \n
URL:https://dozvo.ru/event/%d0%b3%d0%b5%d0%be%d0%b3%d1%80%d0%b0%d1%84%d0%b8%d1%87%d0%b5%d1%81%d0%ba%d0%b8%d0%b9-%d0%b4%d0%b8%d0%ba%d1%82%d0%b0%d0%bd%d1%82-2025/
ATTACH;FMTTYPE=image/jpeg:https://dozvo.ru/wp-content/uploads/2025/11/eac09edb-3803-403e-8185-3ea6923de076.jpeg
END:VEVENT
END:VCALENDAR