BEGIN:VCALENDAR
VERSION:2.0
PRODID:-//Дом офицеров - ECPv4.6.25//NONSGML v1.0//EN
CALSCALE:GREGORIAN
METHOD:PUBLISH
X-WR-CALNAME:Дом офицеров
X-ORIGINAL-URL:https://dozvo.ru
X-WR-CALDESC:Events for Дом офицеров
BEGIN:VEVENT
DTSTART;TZID=UTC+0:20250918T162000
DTEND;TZID=UTC+0:20250918T172000
DTSTAMP:20260424T140151
CREATED:20250914T132716Z
LAST-MODIFIED:20250914T132716Z
UID:10911-1758212400-1758216000@dozvo.ru
SUMMARY:Историко-литературный час « Ваше благородие господин Куприн\, подпоручик»
DESCRIPTION:
URL:https://dozvo.ru/event/%d0%b8%d1%81%d1%82%d0%be%d1%80%d0%b8%d0%ba%d0%be-%d0%bb%d0%b8%d1%82%d0%b5%d1%80%d0%b0%d1%82%d1%83%d1%80%d0%bd%d1%8b%d0%b9-%d1%87%d0%b0%d1%81-%d0%b2%d0%b0%d1%88%d0%b5-%d0%b1%d0%bb%d0%b0%d0%b3/
ATTACH;FMTTYPE=image/jpeg:https://dozvo.ru/wp-content/uploads/2025/09/7187e358-0628-4ac7-a4ce-f491b56c02bf.jpeg
END:VEVENT
END:VCALENDAR