BEGIN:VCALENDAR
VERSION:2.0
PRODID:-//Дом офицеров - ECPv4.6.25//NONSGML v1.0//EN
CALSCALE:GREGORIAN
METHOD:PUBLISH
X-WR-CALNAME:Дом офицеров
X-ORIGINAL-URL:https://dozvo.ru
X-WR-CALDESC:Events for Дом офицеров
BEGIN:VEVENT
DTSTART;TZID=UTC+0:20251112T180000
DTEND;TZID=UTC+0:20251112T193000
DTSTAMP:20260422T183839
CREATED:20251110T003410Z
LAST-MODIFIED:20251110T003410Z
UID:11078-1762970400-1762975800@dozvo.ru
SUMMARY:Концерт ко Дню окончания Первой Мировой войны
DESCRIPTION:
URL:https://dozvo.ru/event/%d0%ba%d0%be%d0%bd%d1%86%d0%b5%d1%80%d1%82-%d0%ba%d0%be-%d0%b4%d0%bd%d1%8e-%d0%be%d0%ba%d0%be%d0%bd%d1%87%d0%b0%d0%bd%d0%b8%d1%8f-%d0%bf%d0%b5%d1%80%d0%b2%d0%be%d0%b9-%d0%bc%d0%b8%d1%80%d0%be%d0%b2/
ATTACH;FMTTYPE=image/jpeg:https://dozvo.ru/wp-content/uploads/2025/11/422bc7cb-1a3b-4247-bceb-3c59a6bc480d.jpeg
END:VEVENT
END:VCALENDAR