BEGIN:VCALENDAR
VERSION:2.0
PRODID:-//Дом офицеров - ECPv4.6.25//NONSGML v1.0//EN
CALSCALE:GREGORIAN
METHOD:PUBLISH
X-WR-CALNAME:Дом офицеров
X-ORIGINAL-URL:https://dozvo.ru
X-WR-CALDESC:Events for Дом офицеров
BEGIN:VEVENT
DTSTART;TZID=UTC+0:20251009T180000
DTEND;TZID=UTC+0:20251009T193000
DTSTAMP:20260422T201659
CREATED:20250929T200536Z
LAST-MODIFIED:20250930T085848Z
UID:10931-1760032800-1760038200@dozvo.ru
SUMMARY:Концерт «О чем поют мужчины»
DESCRIPTION:Регистрация на мероприятие доступна по ссылке: https://malye-stseny-event.timepad.ru/event/3576652/ \n
URL:https://dozvo.ru/event/%d0%ba%d0%be%d0%bd%d1%86%d0%b5%d1%80%d1%82-%d0%be-%d1%87%d0%b5%d0%bc-%d0%bf%d0%be%d1%8e%d1%82-%d0%bc%d1%83%d0%b6%d1%87%d0%b8%d0%bd%d1%8b/
ATTACH;FMTTYPE=image/jpeg:https://dozvo.ru/wp-content/uploads/2025/09/ebd85102-9499-441d-99ec-06f0f0122052.jpeg
END:VEVENT
END:VCALENDAR