BEGIN:VCALENDAR
VERSION:2.0
PRODID:-//Дом офицеров - ECPv4.6.25//NONSGML v1.0//EN
CALSCALE:GREGORIAN
METHOD:PUBLISH
X-WR-CALNAME:Дом офицеров
X-ORIGINAL-URL:https://dozvo.ru
X-WR-CALDESC:Events for Дом офицеров
BEGIN:VEVENT
DTSTART;TZID=UTC+0:20250622T110000
DTEND;TZID=UTC+0:20250622T133000
DTSTAMP:20260424T121038
CREATED:20250619T113132Z
LAST-MODIFIED:20250619T113132Z
UID:10840-1750590000-1750599000@dozvo.ru
SUMMARY:Мемориальная акция «День памяти и скорби»\, посвященный дню начала Великой Отечественной войны
DESCRIPTION:\n \n\n
URL:https://dozvo.ru/event/%d0%bc%d0%b5%d0%bc%d0%be%d1%80%d0%b8%d0%b0%d0%bb%d1%8c%d0%bd%d0%b0%d1%8f-%d0%b0%d0%ba%d1%86%d0%b8%d1%8f-%d0%b4%d0%b5%d0%bd%d1%8c-%d0%bf%d0%b0%d0%bc%d1%8f%d1%82%d0%b8-%d0%b8-%d1%81%d0%ba%d0%be-2/
ATTACH;FMTTYPE=image/jpeg:https://dozvo.ru/wp-content/uploads/2025/06/122d6d15-5883-4e97-aa5a-7392b43435b0.jpeg
END:VEVENT
END:VCALENDAR