BEGIN:VCALENDAR
VERSION:2.0
PRODID:-//Дом офицеров - ECPv4.6.25//NONSGML v1.0//EN
CALSCALE:GREGORIAN
METHOD:PUBLISH
X-WR-CALNAME:Дом офицеров
X-ORIGINAL-URL:https://dozvo.ru
X-WR-CALDESC:Events for Дом офицеров
BEGIN:VEVENT
DTSTART;TZID=UTC+0:20251209T160000
DTEND;TZID=UTC+0:20251209T173000
DTSTAMP:20260422T171819
CREATED:20251203T215805Z
LAST-MODIFIED:20251203T215805Z
UID:11140-1765296000-1765301400@dozvo.ru
SUMMARY:Музыкально-поэтическая композиция «Время героев»
DESCRIPTION:
URL:https://dozvo.ru/event/%d0%bc%d1%83%d0%b7%d1%8b%d0%ba%d0%b0%d0%bb%d1%8c%d0%bd%d0%be-%d0%bf%d0%be%d1%8d%d1%82%d0%b8%d1%87%d0%b5%d1%81%d0%ba%d0%b0%d1%8f-%d0%ba%d0%be%d0%bc%d0%bf%d0%be%d0%b7%d0%b8%d1%86%d0%b8%d1%8f-3/
ATTACH;FMTTYPE=image/jpeg:https://dozvo.ru/wp-content/uploads/2025/12/ce30a685-f82d-498d-9469-c192de593921-1.jpeg
END:VEVENT
END:VCALENDAR