BEGIN:VCALENDAR
VERSION:2.0
PRODID:-//Дом офицеров - ECPv4.6.25//NONSGML v1.0//EN
CALSCALE:GREGORIAN
METHOD:PUBLISH
X-WR-CALNAME:Дом офицеров
X-ORIGINAL-URL:https://dozvo.ru
X-WR-CALDESC:Events for Дом офицеров
BEGIN:VEVENT
DTSTART;TZID=UTC+0:20251231T210000
DTEND;TZID=UTC+0:20260101T030000
DTSTAMP:20260422T154607
CREATED:20251126T202748Z
LAST-MODIFIED:20251126T202748Z
UID:11126-1767214800-1767236400@dozvo.ru
SUMMARY:Новогодняя ночь в Доме офицеров
DESCRIPTION:
URL:https://dozvo.ru/event/%d0%bd%d0%be%d0%b2%d0%be%d0%b3%d0%be%d0%b4%d0%bd%d1%8f%d1%8f-%d0%bd%d0%be%d1%87%d1%8c-%d0%b2-%d0%b4%d0%be%d0%bc%d0%b5-%d0%be%d1%84%d0%b8%d1%86%d0%b5%d1%80%d0%be%d0%b2/
ATTACH;FMTTYPE=image/jpeg:https://dozvo.ru/wp-content/uploads/2025/11/f5b9a17d-4528-4891-8eae-a0ab9473b634.jpeg
END:VEVENT
END:VCALENDAR