BEGIN:VCALENDAR
VERSION:2.0
PRODID:-//Дом офицеров - ECPv4.6.25//NONSGML v1.0//EN
CALSCALE:GREGORIAN
METHOD:PUBLISH
X-WR-CALNAME:Дом офицеров
X-ORIGINAL-URL:https://dozvo.ru
X-WR-CALDESC:Events for Дом офицеров
BEGIN:VEVENT
DTSTART;TZID=UTC+0:20260218T190000
DTEND;TZID=UTC+0:20260218T203000
DTSTAMP:20260422T134654
CREATED:20260129T132235Z
LAST-MODIFIED:20260129T132235Z
UID:11347-1771441200-1771446600@dozvo.ru
SUMMARY:Петровский бэнд. Поддержка бойцов СВО
DESCRIPTION:
URL:https://dozvo.ru/event/%d0%bf%d0%b5%d1%82%d1%80%d0%be%d0%b2%d1%81%d0%ba%d0%b8%d0%b9-%d0%b1%d1%8d%d0%bd%d0%b4-%d0%bf%d0%be%d0%b4%d0%b4%d0%b5%d1%80%d0%b6%d0%ba%d0%b0-%d0%b1%d0%be%d0%b9%d1%86%d0%be%d0%b2-%d1%81%d0%b2%d0%be/
ATTACH;FMTTYPE=image/jpeg:https://dozvo.ru/wp-content/uploads/2026/01/IMG_4112.jpeg
END:VEVENT
END:VCALENDAR