BEGIN:VCALENDAR
VERSION:2.0
PRODID:-//Дом офицеров - ECPv4.6.25//NONSGML v1.0//EN
CALSCALE:GREGORIAN
METHOD:PUBLISH
X-WR-CALNAME:Дом офицеров
X-ORIGINAL-URL:https://dozvo.ru
X-WR-CALDESC:Events for Дом офицеров
BEGIN:VEVENT
DTSTART;TZID=UTC+0:20251009T161000
DTEND;TZID=UTC+0:20251009T173000
DTSTAMP:20260422T185242
CREATED:20251008T084506Z
LAST-MODIFIED:20251008T084506Z
UID:10997-1760026200-1760031000@dozvo.ru
SUMMARY:Презентация книги «Военный переводчик»
DESCRIPTION:
URL:https://dozvo.ru/event/%d0%bf%d1%80%d0%b5%d0%b7%d0%b5%d0%bd%d1%82%d0%b0%d1%86%d0%b8%d1%8f-%d0%ba%d0%bd%d0%b8%d0%b3%d0%b8-%d0%b2%d0%be%d0%b5%d0%bd%d0%bd%d1%8b%d0%b9-%d0%bf%d0%b5%d1%80%d0%b5%d0%b2%d0%be%d0%b4%d1%87/
ATTACH;FMTTYPE=image/jpeg:https://dozvo.ru/wp-content/uploads/2025/10/12789974-f264-43b7-80df-6deff0dc06e5.jpeg
END:VEVENT
END:VCALENDAR