BEGIN:VCALENDAR
VERSION:2.0
PRODID:-//Дом офицеров - ECPv4.6.25//NONSGML v1.0//EN
CALSCALE:GREGORIAN
METHOD:PUBLISH
X-WR-CALNAME:Дом офицеров
X-ORIGINAL-URL:https://dozvo.ru
X-WR-CALDESC:Events for Дом офицеров
BEGIN:VEVENT
DTSTART;TZID=UTC+0:20250709T170000
DTEND;TZID=UTC+0:20250709T183000
DTSTAMP:20260424T104441
CREATED:20250707T194552Z
LAST-MODIFIED:20250707T194552Z
UID:10856-1752080400-1752085800@dozvo.ru
SUMMARY:Премьера документально-музыкального спектакля «Живые мертвые»
DESCRIPTION:
URL:https://dozvo.ru/event/%d0%bf%d1%80%d0%b5%d0%bc%d1%8c%d0%b5%d1%80%d0%b0-%d0%b4%d0%be%d0%ba%d1%83%d0%bc%d0%b5%d0%bd%d1%82%d0%b0%d0%bb%d1%8c%d0%bd%d0%be-%d0%bc%d1%83%d0%b7%d1%8b%d0%ba%d0%b0%d0%bb%d1%8c%d0%bd%d0%be%d0%b3-3/
ATTACH;FMTTYPE=image/jpeg:https://dozvo.ru/wp-content/uploads/2025/07/425a5e29-3dde-4573-93a0-ba3ecc6d1275.jpeg
END:VEVENT
END:VCALENDAR