BEGIN:VCALENDAR
VERSION:2.0
PRODID:-//Дом офицеров - ECPv4.6.25//NONSGML v1.0//EN
CALSCALE:GREGORIAN
METHOD:PUBLISH
X-WR-CALNAME:Дом офицеров
X-ORIGINAL-URL:https://dozvo.ru
X-WR-CALDESC:Events for Дом офицеров
BEGIN:VEVENT
DTSTART;TZID=UTC+0:20250925T110000
DTEND;TZID=UTC+0:20250925T123000
DTSTAMP:20260424T104528
CREATED:20250914T132845Z
LAST-MODIFIED:20250914T132845Z
UID:10914-1758798000-1758803400@dozvo.ru
SUMMARY:Просветительский проект «Скажем обману нет»
DESCRIPTION:
URL:https://dozvo.ru/event/%d0%bf%d1%80%d0%be%d1%81%d0%b2%d0%b5%d1%82%d0%b8%d1%82%d0%b5%d0%bb%d1%8c%d1%81%d0%ba%d0%b8%d0%b9-%d0%bf%d1%80%d0%be%d0%b5%d0%ba%d1%82-%d1%81%d0%ba%d0%b0%d0%b6%d0%b5%d0%bc-%d0%be%d0%b1%d0%bc/
END:VEVENT
END:VCALENDAR