BEGIN:VCALENDAR
VERSION:2.0
PRODID:-//Дом офицеров - ECPv4.6.25//NONSGML v1.0//EN
CALSCALE:GREGORIAN
METHOD:PUBLISH
X-WR-CALNAME:Дом офицеров
X-ORIGINAL-URL:https://dozvo.ru
X-WR-CALDESC:Events for Дом офицеров
BEGIN:VEVENT
DTSTART;TZID=UTC+0:20260402T163000
DTEND;TZID=UTC+0:20260402T173000
DTSTAMP:20260420T171942
CREATED:20260402T100811Z
LAST-MODIFIED:20260402T100811Z
UID:11408-1775147400-1775151000@dozvo.ru
SUMMARY:«Рыцарь мечты» - Николай Степанович Гумилев.
DESCRIPTION:
URL:https://dozvo.ru/event/%d1%80%d1%8b%d1%86%d0%b0%d1%80%d1%8c-%d0%bc%d0%b5%d1%87%d1%82%d1%8b-%d0%bd%d0%b8%d0%ba%d0%be%d0%bb%d0%b0%d0%b9-%d1%81%d1%82%d0%b5%d0%bf%d0%b0%d0%bd%d0%be%d0%b2%d0%b8%d1%87-%d0%b3%d1%83/
ATTACH;FMTTYPE=image/jpeg:https://dozvo.ru/wp-content/uploads/2026/04/IMG_7813.jpeg
END:VEVENT
END:VCALENDAR