BEGIN:VCALENDAR
VERSION:2.0
PRODID:-//Дом офицеров - ECPv4.6.25//NONSGML v1.0//EN
CALSCALE:GREGORIAN
METHOD:PUBLISH
X-WR-CALNAME:Дом офицеров
X-ORIGINAL-URL:https://dozvo.ru
X-WR-CALDESC:Events for Дом офицеров
BEGIN:VEVENT
DTSTART;TZID=UTC+0:20251113T130000
DTEND;TZID=UTC+0:20251113T150000
DTSTAMP:20260422T171654
CREATED:20251006T155851Z
LAST-MODIFIED:20251006T155851Z
UID:10970-1763038800-1763046000@dozvo.ru
SUMMARY:Спектакль «Недоросль»
DESCRIPTION:  \nЧтобы приобрести билет\, отсканируйте QR-код на афише ( нижний правый угол)  \n
URL:https://dozvo.ru/event/%d1%81%d0%bf%d0%b5%d0%ba%d1%82%d0%b0%d0%ba%d0%bb%d1%8c-%d0%bd%d0%b5%d0%b4%d0%be%d1%80%d0%be%d1%81%d0%bb%d1%8c/
ATTACH;FMTTYPE=image/jpeg:https://dozvo.ru/wp-content/uploads/2025/10/IMG_5360.jpeg
END:VEVENT
END:VCALENDAR