BEGIN:VCALENDAR
VERSION:2.0
PRODID:-//Дом офицеров - ECPv4.6.25//NONSGML v1.0//EN
CALSCALE:GREGORIAN
METHOD:PUBLISH
X-WR-CALNAME:Дом офицеров
X-ORIGINAL-URL:https://dozvo.ru
X-WR-CALDESC:Events for Дом офицеров
BEGIN:VEVENT
DTSTART;TZID=UTC+0:20251127T162000
DTEND;TZID=UTC+0:20251127T172000
DTSTAMP:20260424T090820
CREATED:20251125T160527Z
LAST-MODIFIED:20251125T160527Z
UID:11123-1764260400-1764264000@dozvo.ru
SUMMARY:Творческая встреча с писателем Андреем Лысюк
DESCRIPTION:
URL:https://dozvo.ru/event/%d1%82%d0%b2%d0%be%d1%80%d1%87%d0%b5%d1%81%d0%ba%d0%b0%d1%8f-%d0%b2%d1%81%d1%82%d1%80%d0%b5%d1%87%d0%b0-%d1%81-%d0%bf%d0%b8%d1%81%d0%b0%d1%82%d0%b5%d0%bb%d0%b5%d0%bc-%d0%b0%d0%bd%d0%b4%d1%80%d0%b5/
ATTACH;FMTTYPE=image/jpeg:https://dozvo.ru/wp-content/uploads/2025/11/af8ba0c5-f866-474f-89b9-56b8c767a6d1.jpeg
END:VEVENT
END:VCALENDAR