BEGIN:VCALENDAR
VERSION:2.0
PRODID:-//Дом офицеров - ECPv4.6.25//NONSGML v1.0//EN
CALSCALE:GREGORIAN
METHOD:PUBLISH
X-WR-CALNAME:Дом офицеров
X-ORIGINAL-URL:https://dozvo.ru
X-WR-CALDESC:Events for Дом офицеров
BEGIN:VEVENT
DTSTART;TZID=UTC+0:20251106T162000
DTEND;TZID=UTC+0:20251106T172000
DTSTAMP:20260424T090826
CREATED:20251105T085854Z
LAST-MODIFIED:20251105T085854Z
UID:11072-1762446000-1762449600@dozvo.ru
SUMMARY:Федор Михайлович Достоевский « Писатель\, потрясший душу»
DESCRIPTION:
URL:https://dozvo.ru/event/%d1%84%d0%b5%d0%b4%d0%be%d1%80-%d0%bc%d0%b8%d1%85%d0%b0%d0%b9%d0%bb%d0%be%d0%b2%d0%b8%d1%87-%d0%b4%d0%be%d1%81%d1%82%d0%be%d0%b5%d0%b2%d1%81%d0%ba%d0%b8%d0%b9-%d0%bf%d0%b8%d1%81%d0%b0%d1%82/
ATTACH;FMTTYPE=image/jpeg:https://dozvo.ru/wp-content/uploads/2025/11/6ad6ff0d-c836-44f0-9a99-78953b74f6dd.jpeg
END:VEVENT
END:VCALENDAR