BEGIN:VCALENDAR
VERSION:2.0
PRODID:-//Дом офицеров - ECPv4.6.25//NONSGML v1.0//EN
CALSCALE:GREGORIAN
METHOD:PUBLISH
X-WR-CALNAME:Дом офицеров
X-ORIGINAL-URL:https://dozvo.ru
X-WR-CALDESC:Events for Дом офицеров
BEGIN:VEVENT
DTSTART;VALUE=DATE:20260501
DTEND;VALUE=DATE:20260502
DTSTAMP:20260420T154728
CREATED:20260402T100404Z
LAST-MODIFIED:20260402T100404Z
UID:11405-1777593600-1777679999@dozvo.ru
SUMMARY:Фестивальное движение «Твой путь»
DESCRIPTION:
URL:https://dozvo.ru/event/%d1%84%d0%b5%d1%81%d1%82%d0%b8%d0%b2%d0%b0%d0%bb%d1%8c%d0%bd%d0%be%d0%b5-%d0%b4%d0%b2%d0%b8%d0%b6%d0%b5%d0%bd%d0%b8%d0%b5-%d1%82%d0%b2%d0%be%d0%b9-%d0%bf%d1%83%d1%82%d1%8c/
ATTACH;FMTTYPE=image/jpeg:https://dozvo.ru/wp-content/uploads/2026/04/IMG_7814.jpeg
END:VEVENT
END:VCALENDAR