BEGIN:VCALENDAR
VERSION:2.0
PRODID:-//Дом офицеров - ECPv4.6.25//NONSGML v1.0//EN
CALSCALE:GREGORIAN
METHOD:PUBLISH
X-WR-CALNAME:Дом офицеров
X-ORIGINAL-URL:https://dozvo.ru
X-WR-CALDESC:Events for Дом офицеров
BEGIN:VEVENT
DTSTART;TZID=UTC+0:20250609T150000
DTEND;TZID=UTC+0:20250609T170000
DTSTAMP:20260424T154028
CREATED:20250605T084811Z
LAST-MODIFIED:20250605T084811Z
UID:10800-1749481200-1749488400@dozvo.ru
SUMMARY:Церемония награждения участников конкурса «Наша Победа 1941 - 1945 гг. »
DESCRIPTION:
URL:https://dozvo.ru/event/%d1%86%d0%b5%d1%80%d0%b5%d0%bc%d0%be%d0%bd%d0%b8%d1%8f-%d0%bd%d0%b0%d0%b3%d1%80%d0%b0%d0%b6%d0%b4%d0%b5%d0%bd%d0%b8%d1%8f-%d1%83%d1%87%d0%b0%d1%81%d1%82%d0%bd%d0%b8%d0%ba%d0%be%d0%b2-%d0%ba%d0%be/
ATTACH;FMTTYPE=image/jpeg:https://dozvo.ru/wp-content/uploads/2025/06/54d64d89-0f0f-4d01-a3f1-c3a1f0c29d78.jpeg
END:VEVENT
END:VCALENDAR