BEGIN:VCALENDAR
VERSION:2.0
PRODID:-//Дом офицеров - ECPv4.6.25//NONSGML v1.0//EN
CALSCALE:GREGORIAN
METHOD:PUBLISH
X-WR-CALNAME:Дом офицеров
X-ORIGINAL-URL:https://dozvo.ru
X-WR-CALDESC:Events for Дом офицеров
BEGIN:VEVENT
DTSTART;TZID=UTC+0:20260424T190000
DTEND;TZID=UTC+0:20260424T203000
DTSTAMP:20260420T153800
CREATED:20260330T120221Z
LAST-MODIFIED:20260330T120221Z
UID:11400-1777057200-1777062600@dozvo.ru
SUMMARY:«RockCellos: Мировые рок-хиты на виолончелях»
DESCRIPTION:  \nА вы знали\, что рок и виолончель созданы друг для друга? Именно виолончель добавляет рок-хитам многогранности\, загадочности и неуправляемости. То\, что группа RockCellos вытворяет с виолончелями — невероятно!\n \nВ программе вечера — мировые хиты: Nirvana\, Rammstein\, Metallica\, AC/DC\, Linkin Park\, Queen\, The Cranberries\, Scorpions\, Pink Floyd\, The Beatles\, Bon Jovi\, Kiss\, Depeche Mode\, Europe\, Deep Purple\, Aerosmith и др.\n \nБилеты на Яндекс Афиша\n \nhttps://afisha.yandex.ru/saint-petersburg/concert/rockcellos…\n
URL:https://dozvo.ru/event/rockcellos-%d0%bc%d0%b8%d1%80%d0%be%d0%b2%d1%8b%d0%b5-%d1%80%d0%be%d0%ba-%d1%85%d0%b8%d1%82%d1%8b-%d0%bd%d0%b0-%d0%b2%d0%b8%d0%be%d0%bb%d0%be%d0%bd%d1%87%d0%b5%d0%bb%d1%8f%d1%85-2/
ATTACH;FMTTYPE=image/jpeg:https://dozvo.ru/wp-content/uploads/2026/03/IMG_7641.jpeg
END:VEVENT
END:VCALENDAR